BEGIN:VCALENDAR
VERSION:2.0
PRODID:-//A. Smith Bowman Distillery - ECPv6.3.5//NONSGML v1.0//EN
CALSCALE:GREGORIAN
METHOD:PUBLISH
X-WR-CALNAME:A. Smith Bowman Distillery
X-ORIGINAL-URL:https://asmithbowman.com
X-WR-CALDESC:Events for A. Smith Bowman Distillery
REFRESH-INTERVAL;VALUE=DURATION:PT1H
X-Robots-Tag:noindex
X-PUBLISHED-TTL:PT1H
BEGIN:VTIMEZONE
TZID:UTC
BEGIN:STANDARD
TZOFFSETFROM:+0000
TZOFFSETTO:+0000
TZNAME:UTC
DTSTART:20190101T000000
END:STANDARD
END:VTIMEZONE
BEGIN:VEVENT
DTSTART;TZID=UTC:20190208T190000
DTEND;TZID=UTC:20190208T220000
DTSTAMP:20260422T212925
CREATED:20181220T025511Z
LAST-MODIFIED:20210218T164747Z
UID:189-1549652400-1549663200@asmithbowman.com
SUMMARY:Two Can Play That Game Casino Night and Gala
DESCRIPTION:Come support the Fredericksburg Regional Food Bank with our “Two Can Play that Game” Casino Night and Gala!\nJoin us for a night of fun festivities as we bring the glitz and glamour of Vegas to you!\nThis evening will include a silent auction and prizes with all proceeds benefiting the food bank. Come try your hand at one of our exciting table games including Blackjack\, Craps\, Roulette\, and Texas Hold’em. Beer and wine will be served for your drinking pleasure. There will also be a catered reception with lavish hors d’oeuvres provided by Beverley’s Ribinator BBQ. The Bruce Middle Trio will be featuring live jazz music. \nThis is a semi-formal event\, so please dress to impress and get ready for a night to remember!\nIf you are looking for an event with fun and flair there is no better place to be than supporting the Fredericksburg Regional Food Bank at the Casino Night and Gala. \nSilent Auction Participants:\nCapital Ale House Fredericksburg\nPermaTreat Pest Control\nPaws and Purrs Pet Salon\nCourtyard by Marriott Fredericksburg Historic District \nExclusive Travel Silent Auction!\nProvided by American Fundraising Foundation – AmFund\nMore info on trips visit our page. \nEvent Sponsor:\nNew Home Media
URL:https://asmithbowman.com/event/casino-night-gala/
LOCATION:A. Smith Bowman Distillery\, 1 Bowman Dr.\, Fredericksburg\, VA\, 22408\, United States
ATTACH;FMTTYPE=image/jpeg:https://asmithbowman.com/wp-content/uploads/2018/12/ASB_Events_casino.jpg
END:VEVENT
END:VCALENDAR