BEGIN:VCALENDAR
VERSION:2.0
PRODID:-//A. Smith Bowman Distillery - ECPv6.3.5//NONSGML v1.0//EN
CALSCALE:GREGORIAN
METHOD:PUBLISH
X-ORIGINAL-URL:https://asmithbowman.com
X-WR-CALDESC:Events for A. Smith Bowman Distillery
REFRESH-INTERVAL;VALUE=DURATION:PT1H
X-Robots-Tag:noindex
X-PUBLISHED-TTL:PT1H
BEGIN:VTIMEZONE
TZID:UTC
BEGIN:STANDARD
TZOFFSETFROM:+0000
TZOFFSETTO:+0000
TZNAME:UTC
DTSTART:20190101T000000
END:STANDARD
END:VTIMEZONE
BEGIN:VEVENT
DTSTART;TZID=UTC:20190511T120000
DTEND;TZID=UTC:20190511T170000
DTSTAMP:20260422T165609
CREATED:20190412T180826Z
LAST-MODIFIED:20210218T164238Z
UID:1509-1557576000-1557594000@asmithbowman.com
SUMMARY:2nd Annual Embrey Mill Berry & Wine Festival
DESCRIPTION:Are you ready for an afternoon of food\, family-fun\, and local wine & spirits? Join us on May 11 from 12pm-5pm for our second annual Berry & Wine Festival. Enjoy tastings from Hartwood Winery Inc\, Potomac Point Vineyard and Winery\, Lake Anna Winery\, Mattaponi Winery\, Rogers Ford Farm Winery\, and A. Smith Bowman Distillery. \nSnacks and treats will be provided by C & T Produce\, Glory Dawgs\, Funnel Cake Cafe\, LLC.\, and The UFO Truck. This event will also have kid-friendly activities including face painting\, tattoo art\, balloons\, Godzilla Golf (sponsored by Augustine Golf Club)\, and music by DJ BnB with a bubble machine. \nTickets are $15 each or 2 for $25 (14 tastings are included in the ticket price). Tickets may be purchased online or at the admissions tent the day of. Must be 21+ to purchase tickets! \nAdmission is free for minors\, designated drivers and non-tasting festival goers. \nParking will be available at Ebenezer Church with shuttle buses to transport guests.
URL:https://asmithbowman.com/event/berry-and-wine-festival/
LOCATION:Embrey Mill by Newland\, 466 Embrey Mill Road\, Stafford\, VA\, 22554\, United States
ATTACH;FMTTYPE=image/jpeg:https://asmithbowman.com/wp-content/uploads/2019/04/ASB_Events_Embrey-Mill.jpg
END:VEVENT
END:VCALENDAR