BEGIN:VCALENDAR
VERSION:2.0
PRODID:-//A. Smith Bowman Distillery - ECPv6.3.5//NONSGML v1.0//EN
CALSCALE:GREGORIAN
METHOD:PUBLISH
X-WR-CALNAME:A. Smith Bowman Distillery
X-ORIGINAL-URL:https://asmithbowman.com
X-WR-CALDESC:Events for A. Smith Bowman Distillery
REFRESH-INTERVAL;VALUE=DURATION:PT1H
X-Robots-Tag:noindex
X-PUBLISHED-TTL:PT1H
BEGIN:VTIMEZONE
TZID:UTC
BEGIN:STANDARD
TZOFFSETFROM:+0000
TZOFFSETTO:+0000
TZNAME:UTC
DTSTART:20190101T000000
END:STANDARD
END:VTIMEZONE
BEGIN:VEVENT
DTSTART;TZID=UTC:20190615T110000
DTEND;TZID=UTC:20190615T170000
DTSTAMP:20260422T150411
CREATED:20190221T010822Z
LAST-MODIFIED:20210218T165707Z
UID:1230-1560596400-1560618000@asmithbowman.com
SUMMARY:Annual Father's Day Festival
DESCRIPTION:The World’s Best Dad Deserves World Class Bourbon! Join\, A. Smith Bowman Distillery for our 8th Annual Father’s Day Festival! \nAdmission is FREE! There will be: \nDistillery Tours on the half hour\nTastings & Cocktails\nLocal Beer & Wine\nLive Music from Cabin Creek\nMouthwatering food\nGreat Vendors\nAnnual Barrel Regatta\nGames\nAnd more! \nFun for the whole family! \nWe do ask that four-legged family members and any other pets stay home. However\, service animals are allowed in the festival areas. \nParking for this festival will be different than past years\, please follow the directional signs and parking attendants when you arrive. \nCall us at 540-373-4555 for more information! \n 
URL:https://asmithbowman.com/event/annual-fathers-day-festival/
LOCATION:A. Smith Bowman Distillery\, 1 Bowman Dr.\, Fredericksburg\, VA\, 22408\, United States
ATTACH;FMTTYPE=image/jpeg:https://asmithbowman.com/wp-content/uploads/2019/02/ASB_Events_Fathers-Day.jpg
END:VEVENT
END:VCALENDAR