BEGIN:VCALENDAR
VERSION:2.0
PRODID:-//A. Smith Bowman Distillery - ECPv6.3.5//NONSGML v1.0//EN
CALSCALE:GREGORIAN
METHOD:PUBLISH
X-WR-CALNAME:A. Smith Bowman Distillery
X-ORIGINAL-URL:https://asmithbowman.com
X-WR-CALDESC:Events for A. Smith Bowman Distillery
REFRESH-INTERVAL;VALUE=DURATION:PT1H
X-Robots-Tag:noindex
X-PUBLISHED-TTL:PT1H
BEGIN:VTIMEZONE
TZID:UTC
BEGIN:STANDARD
TZOFFSETFROM:+0000
TZOFFSETTO:+0000
TZNAME:UTC
DTSTART:20190101T000000
END:STANDARD
END:VTIMEZONE
BEGIN:VEVENT
DTSTART;TZID=UTC:20191018T160000
DTEND;TZID=UTC:20191019T170000
DTSTAMP:20260422T183632
CREATED:20190816T185500Z
LAST-MODIFIED:20190816T185500Z
UID:2213-1571414400-1571504400@asmithbowman.com
SUMMARY:Whiskey and Wood Artisan Festival
DESCRIPTION:The fun continues into October with the 2019 Whiskey and Wood Artisan Festival! \nThe Fredericksburg Area Woodworkers Guild is partnering with A. Smith Bowman Distillery to host this family-friendly event which gives guests the opportunity to meet the makers\, hear the stories behind their creations\, and purchase works of art! Wood\, glass\, metal\, pottery\, furniture\, home decor\, jewelry\, and more will be featured — all made by local artisans. \nThe festival will take place on October 18-19 and both admission and parking are free. Food will be available for purchase by Orofino’s Restaurant. \nHours for this event will be 4-8 p.m. on Friday and 10 a.m.-5 p.m. on Saturday. Learn more!
URL:https://asmithbowman.com/event/whiskey-and-wood-artisan-festival/
LOCATION:A. Smith Bowman Distillery\, 1 Bowman Dr.\, Fredericksburg\, VA\, 22408\, United States
ATTACH;FMTTYPE=image/jpeg:https://asmithbowman.com/wp-content/uploads/2019/08/Whiskey_and_Wood.jpg
END:VEVENT
BEGIN:VEVENT
DTSTART;TZID=UTC:20191026T190000
DTEND;TZID=UTC:20191026T220000
DTSTAMP:20260422T183632
CREATED:20190816T192411Z
LAST-MODIFIED:20191002T200805Z
UID:2218-1572116400-1572127200@asmithbowman.com
SUMMARY:Flight & Fright Night
DESCRIPTION:Ready for some spooky\, adults-only\, pre-Halloween fun? A. Smith Bowman Distillery is bringing back its popular Flight & Fright Night this year on Saturday\, October 26 from 7-10 p.m.\, which showcases the Distillery in a completely different light. \nThe evening kicks off with a lantern-lit tour of the Distillery that will feature some haunting ghost tales and staff recollections of all the things that have gone bump in the night in the Barrel Room. \nAfter the tour\, the Distillery will offer a movie screening of the 1960 Halloween classic\, Psycho. While watching the movie\, guests can sit back and enjoy A. Smith Bowman Distillery spirits as a flight or as a deliciously spooky cocktail. Scrumptiously flavored popcorn will also be available during the movie. After the movie\, there will also be a costume competition. The winner will be chosen by a people’s choice nomination and will receive a nice gift basket. \nTickets\, which must be purchased in advance\, are $35 per person or $65 for two and include admission\, the lantern-lit tour\, snacks\, and two cocktails. Additional cocktails are available for purchase. Non-alcohol tickets are $15 per person and include admission\, tour\, snacks\, and non-alcohol beverages. Guests for this event must be 21 years or older and all proceeds benefit the Grapes & Grain Trail. \n\nPurchase Tickets
URL:https://asmithbowman.com/event/flight-and-fright-night/
LOCATION:A. Smith Bowman Distillery\, 1 Bowman Dr.\, Fredericksburg\, VA\, 22408\, United States
ATTACH;FMTTYPE=image/jpeg:https://asmithbowman.com/wp-content/uploads/2019/08/FlightAndFrightNight.jpg
END:VEVENT
BEGIN:VEVENT
DTSTART;TZID=UTC:20191206T190000
DTEND;TZID=UTC:20191206T210000
DTSTAMP:20260422T183632
CREATED:20190816T192243Z
LAST-MODIFIED:20191107T011809Z
UID:2220-1575658800-1575666000@asmithbowman.com
SUMMARY:Holiday Cocktail Class | Sold Out
DESCRIPTION:Want to wow your family and friends over the holidays? \nA. Smith Bowman Distillery’s Holiday Cocktail Class teaches guests how to prepare and sample four cocktails that are perfect for holiday celebrations! \nTickets will be $35 per person (must be purchased in advance\, tickets go on sale one month prior) and will include all supplies and equipment\, recipes to take home\, and small bites to enjoy with the cocktails. \nEVENT CURRENTLY SOLD OUT! \nMust be 21 years or older. 7-9 p.m. \n 
URL:https://asmithbowman.com/event/holiday-cocktail-class/
LOCATION:A. Smith Bowman Distillery\, 1 Bowman Dr.\, Fredericksburg\, VA\, 22408\, United States
ATTACH;FMTTYPE=image/jpeg:https://asmithbowman.com/wp-content/uploads/2019/08/Holiday_Cocktail_Class_Placeholder.jpg
END:VEVENT
BEGIN:VEVENT
DTSTART;TZID=UTC:20201114T180000
DTEND;TZID=UTC:20201114T210000
DTSTAMP:20260422T183632
CREATED:20201007T143515Z
LAST-MODIFIED:20201007T192902Z
UID:2495-1605376800-1605387600@asmithbowman.com
SUMMARY:Annual Master Distiller's Dinner
DESCRIPTION:Master Distiller’s Dinner at A. Smith Bowman Distillery! \nA. Smith Bowman Distillery and Earth Apple have joined up to bring you a unique bourbon experience! Our Master Distiller\, Brian Prewitt\, will start the evening off with a guided tasting of rare Abraham Bowman Limited Edition Whiskies\, accompanied by delectable small bites specially selected by Chef Jessica Wilkins. Following the tasting\, Chef Jessica will treat guests to a 3-course dinner served with carefully crafted bourbon cocktails. \nNOTE: IN ORDER TO KEEP SAFETY A PRIORITY DURING THE COVID-19 PANDEMIC\, GUEST TOTAL FOR THIS EVENT IS LIMITED TO 24 AND TICKETS WILL BE SOLD IN PAIRS (2 TICKETS PER ORDER) TO ENSURE PROPER SOCIAL DISTANCING. ALL GUESTS ARE REQUIRED TO WEAR PROPER CLOTH MASKS AND UNDERGO A HEALTH SCREEN UPON CHECK-IN. \nWant to be seated near another party? You may request seat proximity by e-mailing mbegin@asmithbowman.com. \nThe event will be held at A. Smith Bowman Distillery\, 1 Bowman Drive\, Fredericksburg\, VA 22408. \nCost for this event is $125 per person. You must be 21+ to attend this event. \nTickets for the event go on sale October 14\, 2020 at 9 a.m. via Eventbrite. \n\nPurchase Tickets
URL:https://asmithbowman.com/event/annual-master-distillers-dinner/
LOCATION:A. Smith Bowman Distillery\, 1 Bowman Dr.\, Fredericksburg\, VA\, 22408\, United States
ATTACH;FMTTYPE=image/jpeg:https://asmithbowman.com/wp-content/uploads/2020/10/ASB-1077-Bourbon-Dinner-Nov-2020_FB-Event-Header.jpg
END:VEVENT
END:VCALENDAR