BEGIN:VCALENDAR
VERSION:2.0
PRODID:-//A. Smith Bowman Distillery - ECPv6.3.5//NONSGML v1.0//EN
CALSCALE:GREGORIAN
METHOD:PUBLISH
X-WR-CALNAME:A. Smith Bowman Distillery
X-ORIGINAL-URL:https://asmithbowman.com
X-WR-CALDESC:Events for A. Smith Bowman Distillery
REFRESH-INTERVAL;VALUE=DURATION:PT1H
X-Robots-Tag:noindex
X-PUBLISHED-TTL:PT1H
BEGIN:VTIMEZONE
TZID:UTC
BEGIN:STANDARD
TZOFFSETFROM:+0000
TZOFFSETTO:+0000
TZNAME:UTC
DTSTART:20200101T000000
END:STANDARD
END:VTIMEZONE
BEGIN:VEVENT
DTSTART;TZID=UTC:20201114T180000
DTEND;TZID=UTC:20201114T210000
DTSTAMP:20260419T123552
CREATED:20201007T143515Z
LAST-MODIFIED:20201007T192902Z
UID:2495-1605376800-1605387600@asmithbowman.com
SUMMARY:Annual Master Distiller's Dinner
DESCRIPTION:Master Distiller’s Dinner at A. Smith Bowman Distillery! \nA. Smith Bowman Distillery and Earth Apple have joined up to bring you a unique bourbon experience! Our Master Distiller\, Brian Prewitt\, will start the evening off with a guided tasting of rare Abraham Bowman Limited Edition Whiskies\, accompanied by delectable small bites specially selected by Chef Jessica Wilkins. Following the tasting\, Chef Jessica will treat guests to a 3-course dinner served with carefully crafted bourbon cocktails. \nNOTE: IN ORDER TO KEEP SAFETY A PRIORITY DURING THE COVID-19 PANDEMIC\, GUEST TOTAL FOR THIS EVENT IS LIMITED TO 24 AND TICKETS WILL BE SOLD IN PAIRS (2 TICKETS PER ORDER) TO ENSURE PROPER SOCIAL DISTANCING. ALL GUESTS ARE REQUIRED TO WEAR PROPER CLOTH MASKS AND UNDERGO A HEALTH SCREEN UPON CHECK-IN. \nWant to be seated near another party? You may request seat proximity by e-mailing mbegin@asmithbowman.com. \nThe event will be held at A. Smith Bowman Distillery\, 1 Bowman Drive\, Fredericksburg\, VA 22408. \nCost for this event is $125 per person. You must be 21+ to attend this event. \nTickets for the event go on sale October 14\, 2020 at 9 a.m. via Eventbrite. \n\nPurchase Tickets
URL:https://asmithbowman.com/event/annual-master-distillers-dinner/
LOCATION:A. Smith Bowman Distillery\, 1 Bowman Dr.\, Fredericksburg\, VA\, 22408\, United States
ATTACH;FMTTYPE=image/jpeg:https://asmithbowman.com/wp-content/uploads/2020/10/ASB-1077-Bourbon-Dinner-Nov-2020_FB-Event-Header.jpg
END:VEVENT
END:VCALENDAR