BEGIN:VCALENDAR
VERSION:2.0
PRODID:-//A. Smith Bowman Distillery - ECPv6.3.5//NONSGML v1.0//EN
CALSCALE:GREGORIAN
METHOD:PUBLISH
X-ORIGINAL-URL:https://asmithbowman.com
X-WR-CALDESC:Events for A. Smith Bowman Distillery
REFRESH-INTERVAL;VALUE=DURATION:PT1H
X-Robots-Tag:noindex
X-PUBLISHED-TTL:PT1H
BEGIN:VTIMEZONE
TZID:UTC
BEGIN:STANDARD
TZOFFSETFROM:+0000
TZOFFSETTO:+0000
TZNAME:UTC
DTSTART:20190101T000000
END:STANDARD
END:VTIMEZONE
BEGIN:VEVENT
DTSTART;TZID=UTC:20190302T180000
DTEND;TZID=UTC:20190302T220000
DTSTAMP:20260422T183223
CREATED:20181220T025503Z
LAST-MODIFIED:20190104T003615Z
UID:187-1551549600-1551564000@asmithbowman.com
SUMMARY:Fredericksburg DU Wetlands Protector Dinner
DESCRIPTION:More information to come \nEvent Contact Information:\nByrd Holloway\n(540) 270 – 8777 \n  \nPurchase Tickets
URL:https://asmithbowman.com/event/wetlands-protector-dinner/
LOCATION:A. Smith Bowman Distillery\, 1 Bowman Dr.\, Fredericksburg\, VA\, 22408\, United States
ATTACH;FMTTYPE=image/jpeg:https://asmithbowman.com/wp-content/uploads/2018/12/ASB_Events_wetlands_dinner.jpg
END:VEVENT
BEGIN:VEVENT
DTSTART;TZID=UTC:20190316T120000
DTEND;TZID=UTC:20190316T170000
DTSTAMP:20260422T183223
CREATED:20190221T002150Z
LAST-MODIFIED:20190221T005639Z
UID:1206-1552737600-1552755600@asmithbowman.com
SUMMARY:St. Patrick Day Festival
DESCRIPTION:Adventure Brewing Co. invites you to celebrate the 17th Annual Jeff Fitzpatrick St. Patrick’s Day Parade and Festival on March 16 from 12 PM – 5 PM at A. Smith Bowman Distillery. \nThis holiday tradition is a fun-filled day for the whole family! The festivities kick-off with a lighthearted .5k Couch Potato run at 11:30 AM with a parade to follow at 12:00 PM. The parade begins on Main Street in the Bowman Center Business Park and concludes at A. Smith Bowman Distillery with an outdoor festival featuring local artisans and businesses \, live music provided by Whiskey Revival and Cabin Creek\, and family-friendly activities. \nHelp us support the Fredericksburg Regional Food Bank during this event by bringing canned goods and/or donations to A. Smith Bowman Distillery or Adventure Brewing Co.’s North Location in Stafford. The Fredericksburg Regional Food Bank serves Caroline County\, the City of Fredericksburg\, King George County\, Locust Grove\, Spotsylvania County and Stafford County as well as neighboring communities. \nAdmission is free. Tickets for pint glasses and the .5k are available for purchase online. Beer tickets sold a the door. \nThank you to this year’s sponsors: \nA. Smith Bowman Distillery\nFredericksburg Brew Fest \n  \nPurchase Tickets
URL:https://asmithbowman.com/event/st-patrick-day-festival/
LOCATION:A. Smith Bowman Distillery\, 1 Bowman Dr.\, Fredericksburg\, VA\, 22408\, United States
ATTACH;FMTTYPE=image/jpeg:https://asmithbowman.com/wp-content/uploads/2019/02/ASB_Events_St-Patricks-Day-Festival.jpg
END:VEVENT
BEGIN:VEVENT
DTSTART;TZID=UTC:20190330T110000
DTEND;TZID=UTC:20190330T170000
DTSTAMP:20260422T183223
CREATED:20190221T003934Z
LAST-MODIFIED:20190221T004324Z
UID:1210-1553943600-1553965200@asmithbowman.com
SUMMARY:Fredricksburg Spring Brew Fest
DESCRIPTION:Unlimited sampling; beer\, wine\, cider and distilled spirits. Food Vendors\, LIVE Music\, Games and more. \n  \nPurchase Tickets
URL:https://asmithbowman.com/event/fredricksburg-spring-brew-fest/
LOCATION:Fredricksburg Agricultural Fair\, Inc.\, 2400 Airport Ave.\, Fredericksburg\, VA\, 22401\, United States
ATTACH;FMTTYPE=image/jpeg:https://asmithbowman.com/wp-content/uploads/2019/02/ASB_Events_Fredricksburg-Spring-Brewfest.jpg
ORGANIZER;CN="Fredricksburg Agricultural Fair%2C Inc.":MAILTO:fredfair123@gmail.com
END:VEVENT
BEGIN:VEVENT
DTSTART;TZID=UTC:20190330T190000
DTEND;TZID=UTC:20190330T230000
DTSTAMP:20260422T183223
CREATED:20190221T005402Z
LAST-MODIFIED:20190308T210512Z
UID:1218-1553972400-1553986800@asmithbowman.com
SUMMARY:Inaugural Gladys H. Oberle School Spring Gala
DESCRIPTION:Join us for a fun-filled evening at the Inaugural Gladys H. Oberle School Spring Gala!. The evening will feature the sweet sounds of Bobby McKey’s Dueling Pianos filling the air as well as the wonderful aromas and delectable bites of the Sunken Well Tavern catering team. An assortment of libations will also be available to quench your thirst throughout the evening. Guests will also have the opportunity to bid on various items including vacation getaways\, jewelry\, local artwork\, an assortment of gift baskets\, and many other exciting items. \nThis evening will also provide an opportunity to share The Gladys H. Oberle School’s mission and goals with our guests and to raise funds to support and expand the current programs that cater to members of our community who have a myriad of challenges\, barriers\, and disabilities. Proceeds from the event will also provide scholarships for our graduates who go on to pursue advanced education and training. As a non-profit organization\, our programs give back to our community by helping individuals be equipped to successfully and independently transition into contributing members of our community. \nWe look forward to providing the community with a fun-filled night. We appreciate all the community support. \n  \nPurchase Tickets
URL:https://asmithbowman.com/event/inaugural-gladys-h-oberle-school-spring-gala/
LOCATION:A. Smith Bowman Distillery\, 1 Bowman Dr.\, Fredericksburg\, VA\, 22408\, United States
ATTACH;FMTTYPE=image/jpeg:https://asmithbowman.com/wp-content/uploads/2019/02/ASB_Events_Oberle-Spring-Gala.jpg
END:VEVENT
END:VCALENDAR